BEGIN:VCALENDAR
VERSION:2.0
PRODID:-//eventon.com NONSGML v1.0//EN
CALSCALE:GREGORIAN
METHOD:PUBLISH
BEGIN:VEVENT
UID:69e7389a2d8a1
DTSTAMP:20260421T084306Z
DTSTART:20250404T180000Z
DTEND:20250404T200000Z
LOCATION:Skate- en Skeelercentrum Hoornscheveen Kommerseweg 2a\,  Heerde
SUMMARY:HABOVO Jeugd Skeelercup 2025
DESCRIPTION:Open jeugdcompetitie georganiseerd door Skeelerclub Oost Veluwe
  op de vrijdagavond\,  open voor leden en niet-leden. &nbsp;\nhttps://skeel
 er-sport.nl/events/habovo-jeugd-skeelercup-2024/
URL:https://skeeler-sport.nl/events/habovo-jeugd-skeelercup-2024/
END:VEVENT
END:VCALENDAR