BEGIN:VCALENDAR
VERSION:2.0
PRODID:-//eventon.com NONSGML v1.0//EN
CALSCALE:GREGORIAN
METHOD:PUBLISH
BEGIN:VEVENT
UID:69e8877742378
DTSTAMP:20260422T083151Z
DTSTART:20260207T090000Z
DTEND:20260207T140000Z
LOCATION:
SUMMARY:Indoor Inline Cup 2026 - Moerkapelle
DESCRIPTION:\nhttps://skeeler-sport.nl/events/indoor-inline-cup-2026-moerka
 pelle/
URL:https://skeeler-sport.nl/events/indoor-inline-cup-2026-moerkapelle/
END:VEVENT
END:VCALENDAR