BEGIN:VCALENDAR
VERSION:2.0
PRODID:-//eventon.com NONSGML v1.0//EN
CALSCALE:GREGORIAN
METHOD:PUBLISH
BEGIN:VEVENT
UID:69e88b34bb6b1
DTSTAMP:20260422T084748Z
DTSTART:20260228T100000Z
DTEND:20260228T140000Z
LOCATION:Wolvega Deken Vaasstraat 15
SUMMARY:Indoor Inline Cup 2026 - Wolvega
DESCRIPTION:\nhttps://skeeler-sport.nl/events/indoor-inline-cup-2026-wolveg
 a/
URL:https://skeeler-sport.nl/events/indoor-inline-cup-2026-wolvega/
END:VEVENT
END:VCALENDAR